BEGIN:VCALENDAR
VERSION:2.0
PRODID:https://www.kufer.de/kuferweb / DE
METHOD:PUBLISH
CALSCALE:GREGORIAN
X-WR-TIMEZONE:Europe/Berlin
BEGIN:VTIMEZONE
TZID:Europe/Berlin
X-LIC-LOCATION:Europe/Berlin
BEGIN:DAYLIGHT
TZOFFSETFROM:+0100
TZOFFSETTO:+0200
TZNAME:CEST
DTSTART:19700329T020000
RRULE:FREQ=YEARLY;INTERVAL=1;BYDAY=-1SU;BYMONTH=3
END:DAYLIGHT
BEGIN:STANDARD
TZOFFSETFROM:+0200
TZOFFSETTO:+0100
TZNAME:CET
DTSTART:19701025T030000
RRULE:FREQ=YEARLY;INTERVAL=1;BYDAY=-1SU;BYMONTH=10
END:STANDARD
END:VTIMEZONE
BEGIN:VEVENT
DTSTAMP:20260425T135613
DTSTART;TZID=Europe/Berlin:20260511T150000
DTEND;TZID=Europe/Berlin:20260511T180000
UID:261-11839-20260511T150000@BREMEN HOCHSCHULE
SUMMARY:KI als Ressource: Resilienz im digitalen Studium -  Wie Sie Chatbots für mehr Klarheit, Selbstwirksamkeit und mentale Stärke nutzen. (261-11839) 
LOCATION:online
END:VEVENT
BEGIN:VEVENT
DTSTAMP:20260425T135613
DTSTART;TZID=Europe/Berlin:20260518T150000
DTEND;TZID=Europe/Berlin:20260518T180000
UID:261-11839-20260518T150000@BREMEN HOCHSCHULE
SUMMARY:KI als Ressource: Resilienz im digitalen Studium -  Wie Sie Chatbots für mehr Klarheit, Selbstwirksamkeit und mentale Stärke nutzen. (261-11839) 
LOCATION:online
END:VEVENT
BEGIN:VEVENT
DTSTAMP:20260425T135613
DTSTART;TZID=Europe/Berlin:20260601T150000
DTEND;TZID=Europe/Berlin:20260601T180000
UID:261-11839-20260601T150000@BREMEN HOCHSCHULE
SUMMARY:KI als Ressource: Resilienz im digitalen Studium -  Wie Sie Chatbots für mehr Klarheit, Selbstwirksamkeit und mentale Stärke nutzen. (261-11839) 
LOCATION:online
END:VEVENT
END:VCALENDAR