BEGIN:VCALENDAR
VERSION:2.0
PRODID:https://www.kufer.de/kuferweb / DE
METHOD:PUBLISH
CALSCALE:GREGORIAN
X-WR-TIMEZONE:Europe/Berlin
BEGIN:VTIMEZONE
TZID:Europe/Berlin
X-LIC-LOCATION:Europe/Berlin
BEGIN:DAYLIGHT
TZOFFSETFROM:+0100
TZOFFSETTO:+0200
TZNAME:CEST
DTSTART:19700329T020000
RRULE:FREQ=YEARLY;INTERVAL=1;BYDAY=-1SU;BYMONTH=3
END:DAYLIGHT
BEGIN:STANDARD
TZOFFSETFROM:+0200
TZOFFSETTO:+0100
TZNAME:CET
DTSTART:19701025T030000
RRULE:FREQ=YEARLY;INTERVAL=1;BYDAY=-1SU;BYMONTH=10
END:STANDARD
END:VTIMEZONE
BEGIN:VEVENT
DTSTAMP:20260425T135618
DTSTART;TZID=Europe/Berlin:20260421T143000
DTEND;TZID=Europe/Berlin:20260421T174500
UID:261-11803-20260421T143000@BREMEN HOCHSCHULE
SUMMARY:Research Methods and Academic Writing (261-11803) 
LOCATION:Online
END:VEVENT
BEGIN:VEVENT
DTSTAMP:20260425T135618
DTSTART;TZID=Europe/Berlin:20260428T143000
DTEND;TZID=Europe/Berlin:20260428T174500
UID:261-11803-20260428T143000@BREMEN HOCHSCHULE
SUMMARY:Research Methods and Academic Writing (261-11803) 
LOCATION:Online
END:VEVENT
BEGIN:VEVENT
DTSTAMP:20260425T135618
DTSTART;TZID=Europe/Berlin:20260505T143000
DTEND;TZID=Europe/Berlin:20260505T174500
UID:261-11803-20260505T143000@BREMEN HOCHSCHULE
SUMMARY:Research Methods and Academic Writing (261-11803) 
LOCATION:Online
END:VEVENT
BEGIN:VEVENT
DTSTAMP:20260425T135618
DTSTART;TZID=Europe/Berlin:20260512T143000
DTEND;TZID=Europe/Berlin:20260512T174500
UID:261-11803-20260512T143000@BREMEN HOCHSCHULE
SUMMARY:Research Methods and Academic Writing (261-11803) 
LOCATION:Online
END:VEVENT
BEGIN:VEVENT
DTSTAMP:20260425T135618
DTSTART;TZID=Europe/Berlin:20260519T143000
DTEND;TZID=Europe/Berlin:20260519T174500
UID:261-11803-20260519T143000@BREMEN HOCHSCHULE
SUMMARY:Research Methods and Academic Writing (261-11803) 
LOCATION:Online
END:VEVENT
BEGIN:VEVENT
DTSTAMP:20260425T135618
DTSTART;TZID=Europe/Berlin:20260602T143000
DTEND;TZID=Europe/Berlin:20260602T153000
UID:261-11803-20260602T143000@BREMEN HOCHSCHULE
SUMMARY:Research Methods and Academic Writing (261-11803) 
LOCATION:Online
END:VEVENT
BEGIN:VEVENT
DTSTAMP:20260425T135618
DTSTART;TZID=Europe/Berlin:20260609T143000
DTEND;TZID=Europe/Berlin:20260609T153000
UID:261-11803-20260609T143000@BREMEN HOCHSCHULE
SUMMARY:Research Methods and Academic Writing (261-11803) 
LOCATION:Online
END:VEVENT
BEGIN:VEVENT
DTSTAMP:20260425T135618
DTSTART;TZID=Europe/Berlin:20260616T143000
DTEND;TZID=Europe/Berlin:20260616T174500
UID:261-11803-20260616T143000@BREMEN HOCHSCHULE
SUMMARY:Research Methods and Academic Writing (261-11803) 
LOCATION:Online
END:VEVENT
BEGIN:VEVENT
DTSTAMP:20260425T135618
DTSTART;TZID=Europe/Berlin:20260623T143000
DTEND;TZID=Europe/Berlin:20260623T174500
UID:261-11803-20260623T143000@BREMEN HOCHSCHULE
SUMMARY:Research Methods and Academic Writing (261-11803) 
LOCATION:Online
END:VEVENT
END:VCALENDAR